BEGIN:VCALENDAR
VERSION:2.0
PRODID:-//วิทยาลัยการปกครองท้องถิ่น มหาวิทยาลัยขอนแก่น - ECPv6.15.18//NONSGML v1.0//EN
CALSCALE:GREGORIAN
METHOD:PUBLISH
X-WR-CALNAME:วิทยาลัยการปกครองท้องถิ่น มหาวิทยาลัยขอนแก่น
X-ORIGINAL-URL:https://cola.kku.ac.th
X-WR-CALDESC:Events for วิทยาลัยการปกครองท้องถิ่น มหาวิทยาลัยขอนแก่น
REFRESH-INTERVAL;VALUE=DURATION:PT1H
X-Robots-Tag:noindex
X-PUBLISHED-TTL:PT1H
BEGIN:VTIMEZONE
TZID:Asia/Bangkok
BEGIN:STANDARD
TZOFFSETFROM:+0700
TZOFFSETTO:+0700
TZNAME:+07
DTSTART:20240101T000000
END:STANDARD
END:VTIMEZONE
BEGIN:VEVENT
DTSTART;VALUE=DATE:20250926
DTEND;VALUE=DATE:20250927
DTSTAMP:20260420T112858
CREATED:20251001T070553Z
LAST-MODIFIED:20251001T070553Z
UID:1000-1758844800-1758931199@cola.kku.ac.th
SUMMARY:โครงการ COLA DNA : สะท้อนความเป็นเราชาว COLA
DESCRIPTION:โครงการ COLA DNA : สะท้อนความเป็นเราชาว COLA\n ห้องประชุมพีรสิทธิ์ คำนวณศิลป์\nติดต่อสอบถาม: สมัครเลยที่นี่: https://forms.gle/SpQ535JWvR2tHoc5A \nCOLA Sharing:
URL:https://cola.kku.ac.th/event/%e0%b9%82%e0%b8%84%e0%b8%a3%e0%b8%87%e0%b8%81%e0%b8%b2%e0%b8%a3-cola-dna-%e0%b8%aa%e0%b8%b0%e0%b8%97%e0%b9%89%e0%b8%ad%e0%b8%99%e0%b8%84%e0%b8%a7%e0%b8%b2%e0%b8%a1%e0%b9%80%e0%b8%9b%e0%b9%87/
LOCATION:ห้องประชุมพีรสิทธิ์ คำนวณศิลป์  วิทยาลัยการปกครองท้องถิ่น มหาวิทยาลัยขอนแก่น
END:VEVENT
BEGIN:VEVENT
DTSTART;VALUE=DATE:20250924
DTEND;VALUE=DATE:20250925
DTSTAMP:20260420T112858
CREATED:20251001T070451Z
LAST-MODIFIED:20251001T070451Z
UID:997-1758672000-1758758399@cola.kku.ac.th
SUMMARY:COLA Town Hall Meeting 2568
DESCRIPTION:COLA Town Hall Meeting 24 – 26 กันยายน 2568\n ห้องประชุมพีรสิทธิ์ คำนวณศิลป์\nติดต่อสอบถาม: https://kku.world/colanews2568 \nCOLA Sharing:
URL:https://cola.kku.ac.th/event/cola-town-hall-meeting-2568/
LOCATION:ห้องประชุมพีรสิทธิ์ คำนวณศิลป์  วิทยาลัยการปกครองท้องถิ่น มหาวิทยาลัยขอนแก่น
END:VEVENT
BEGIN:VEVENT
DTSTART;VALUE=DATE:20250920
DTEND;VALUE=DATE:20250921
DTSTAMP:20260420T112858
CREATED:20251001T070300Z
LAST-MODIFIED:20251001T070300Z
UID:994-1758326400-1758412799@cola.kku.ac.th
SUMMARY:COLA Homecoming 2025: ดาวเหนือคืนถิ่น
DESCRIPTION:COLA Homecoming 2025: ดาวเหนือคืนถิ่น\n โรงแรมโฆษะ ขอนแก่น\nติดต่อสอบถาม: https://www.facebook.com/cola.kku/posts/pfbid02t1UeVTiJGSDxxMfyaXJ8LWbCjr3HxjV3t76HtGZMe8NjhUVjYS2tYEUGWLa5EiMBl  \nCOLA Sharing:
URL:https://cola.kku.ac.th/event/cola-homecoming-2025-%e0%b8%94%e0%b8%b2%e0%b8%a7%e0%b9%80%e0%b8%ab%e0%b8%99%e0%b8%b7%e0%b8%ad%e0%b8%84%e0%b8%b7%e0%b8%99%e0%b8%96%e0%b8%b4%e0%b9%88%e0%b8%99/
LOCATION:โรงแรมโฆษะ ขอนแก่น
END:VEVENT
BEGIN:VEVENT
DTSTART;TZID=Asia/Bangkok:20250919T090000
DTEND;TZID=Asia/Bangkok:20250919T180000
DTSTAMP:20260420T112858
CREATED:20251001T070041Z
LAST-MODIFIED:20251001T070044Z
UID:992-1758272400-1758304800@cola.kku.ac.th
SUMMARY:ถอดรหัสผังเมืองใหม่ สิทธิและข้อควรรู้ เพื่อการมีส่วนร่วมจัดทำ ผังเมืองรวมเมืองขอนแก่น
DESCRIPTION:ถอดรหัสผังเมืองใหม่ สิทธิและข้อควรรู้ เพื่อการมีส่วนร่วมจัดทำ ผังเมืองรวมเมืองขอนแก่น \nCOLA Sharing:
URL:https://cola.kku.ac.th/event/%e0%b8%96%e0%b8%ad%e0%b8%94%e0%b8%a3%e0%b8%ab%e0%b8%b1%e0%b8%aa%e0%b8%9c%e0%b8%b1%e0%b8%87%e0%b9%80%e0%b8%a1%e0%b8%b7%e0%b8%ad%e0%b8%87%e0%b9%83%e0%b8%ab%e0%b8%a1%e0%b9%88-%e0%b8%aa%e0%b8%b4%e0%b8%97/
END:VEVENT
BEGIN:VEVENT
DTSTART;VALUE=DATE:20250901
DTEND;VALUE=DATE:20250910
DTSTAMP:20260420T112858
CREATED:20250908T063727Z
LAST-MODIFIED:20250911T100823Z
UID:652-1756684800-1757462399@cola.kku.ac.th
SUMMARY:COLA รับสมัครพนักงาน ฯ 1 อัตรา (การเงิน)
DESCRIPTION:วิทยาลัยการปกครองท้องถิ่น มหาวิทยาลัยขอนแก่น เปิดรับสมัครพนักงานมหาวิทยาลัย ประเภทสนับสนุน ตำแหน่ง นักบริหารงานอุดมศึกษา ปฏิบัติงานด้านการเงิน 1 อัตรา\n————-\nรับสมัครตั้งแต่บัดนี้ ถึงวันที่ 5 กันยายน 2568\nรายละเอียดการรับสมัคร ที่ https://kku.world/viigtf\nดาวน์โหลดใบสมัคร ที่ https://kku.world/o6q47p \nCOLA Sharing:
URL:https://cola.kku.ac.th/event/cola-%e0%b8%a3%e0%b8%b1%e0%b8%9a%e0%b8%aa%e0%b8%a1%e0%b8%b1%e0%b8%84%e0%b8%a3%e0%b8%9e%e0%b8%99%e0%b8%b1%e0%b8%81%e0%b8%87%e0%b8%b2%e0%b8%99-%e0%b8%af-1-%e0%b8%ad%e0%b8%b1%e0%b8%95%e0%b8%a3%e0%b8%b2/
LOCATION:วิทยาลัยการปกครองท้องถิ่น มหาวิทยาลัยขอนแก่น
END:VEVENT
END:VCALENDAR